BEGIN:VCALENDAR
VERSION:2.0
PRODID:-//ACE - ECPv5.15.0.1//NONSGML v1.0//EN
CALSCALE:GREGORIAN
METHOD:PUBLISH
X-WR-CALNAME:ACE
X-ORIGINAL-URL:https://www.acecloser.com
X-WR-CALDESC:Events for ACE
REFRESH-INTERVAL;VALUE=DURATION:PT1H
X-Robots-Tag:noindex
X-PUBLISHED-TTL:PT1H
BEGIN:VTIMEZONE
TZID:America/New_York
BEGIN:DAYLIGHT
TZOFFSETFROM:-0500
TZOFFSETTO:-0400
TZNAME:EDT
DTSTART:20260308T070000
END:DAYLIGHT
BEGIN:STANDARD
TZOFFSETFROM:-0400
TZOFFSETTO:-0500
TZNAME:EST
DTSTART:20261101T060000
END:STANDARD
END:VTIMEZONE
BEGIN:VEVENT
DTSTART;TZID=America/New_York:20260512T110000
DTEND;TZID=America/New_York:20260513T070000
DTSTAMP:20260424T160755
CREATED:20260406T233555Z
LAST-MODIFIED:20260417T125056Z
UID:51718-1778583600-1778655600@www.acecloser.com
SUMMARY:Reservation at TownePlace Suites by Marriott Orlando Altamonte Springs/Maitland\, Starts:05/12/26\, Ends:05/13/26
DESCRIPTION:
URL:https://www.acecloser.com/upcoming_class/reservation-at-towneplace-suites-by-marriott-orlando-altamonte-springs-maitland-starts05-12-26-ends05-13-26/
LOCATION:151 Douglas Avenue  Altamonte Springs\, Florida\, USA
CATEGORIES:ACE Class
END:VEVENT
BEGIN:VEVENT
DTSTART;TZID=America/New_York:20260513T110000
DTEND;TZID=America/New_York:20260513T150000
DTSTAMP:20260424T160755
CREATED:20260224T163558Z
LAST-MODIFIED:20260417T125056Z
UID:49667-1778670000-1778684400@www.acecloser.com
SUMMARY:ACE East Coast Title Presents Dealing with Deal Killers by Josh Cadillac
DESCRIPTION:
URL:https://www.acecloser.com/upcoming_class/ace-east-coast-title-presents-dealing-with-deal-killers-by-josh-cadillac/
LOCATION:Sihle Insurance- 1021 Douglas Ave\, Altamonte Springs\, FL\, United States
CATEGORIES:ACE Class
END:VEVENT
BEGIN:VEVENT
DTSTART;TZID=America/New_York:20260514T080000
DTEND;TZID=America/New_York:20260514T120000
DTSTAMP:20260424T160755
CREATED:20251103T142108Z
LAST-MODIFIED:20260424T160607Z
UID:43047-1778745600-1778760000@www.acecloser.com
SUMMARY:ACE Lister for Tampa
DESCRIPTION:
URL:https://www.acecloser.com/upcoming_class/ace-lister-for-tampa/
LOCATION:4590 Ulmerton Rd. Clearwater\, Clearwater\, FL\, United States
CATEGORIES:ACE Class
END:VEVENT
BEGIN:VEVENT
DTSTART;TZID=America/New_York:20260514T130000
DTEND;TZID=America/New_York:20260514T170000
DTSTAMP:20260424T160755
CREATED:20251103T142108Z
LAST-MODIFIED:20260424T160607Z
UID:43049-1778763600-1778778000@www.acecloser.com
SUMMARY:ACE Advanced Lister for Tampa
DESCRIPTION:
URL:https://www.acecloser.com/upcoming_class/ace-advanced-lister-for-tampa/
LOCATION:4590 Ulmerton Rd. Clearwater\, Clearwater\, FL\, United States
CATEGORIES:ACE Class
END:VEVENT
BEGIN:VEVENT
DTSTART;TZID=America/New_York:20260519T110000
DTEND;TZID=America/New_York:20260520T070000
DTSTAMP:20260424T160755
CREATED:20260406T233555Z
LAST-MODIFIED:20260409T193556Z
UID:51719-1779188400-1779260400@www.acecloser.com
SUMMARY:Reservation at TownePlace Suites by Marriott Orlando Altamonte Springs/Maitland\, Starts:05/19/26\, Ends:05/20/26
DESCRIPTION:
URL:https://www.acecloser.com/upcoming_class/reservation-at-towneplace-suites-by-marriott-orlando-altamonte-springs-maitland-starts05-19-26-ends05-20-26/
LOCATION:151 Douglas Avenue  Altamonte Springs\, Florida\, USA
CATEGORIES:ACE Class
END:VEVENT
BEGIN:VEVENT
DTSTART;TZID=America/New_York:20260527T093000
DTEND;TZID=America/New_York:20260527T133000
DTSTAMP:20260424T160755
CREATED:20260402T183555Z
LAST-MODIFIED:20260424T160608Z
UID:51511-1779874200-1779888600@www.acecloser.com
SUMMARY:(WB) ACE Investment 2: Advanced Real Estate Investment Essentials - 4 CE
DESCRIPTION:
URL:https://www.acecloser.com/upcoming_class/wb-ace-investment-2-advanced-real-estate-investment-essentials-4-ce-4/
LOCATION:CC1 – West Broward office – 13680 NW 14 St. Sunrise\, Fort Lauderdale\, FL\, United States
CATEGORIES:ACE Class
END:VEVENT
BEGIN:VEVENT
DTSTART;TZID=America/New_York:20260528T093000
DTEND;TZID=America/New_York:20260528T133000
DTSTAMP:20260424T160755
CREATED:20260402T183555Z
LAST-MODIFIED:20260424T160608Z
UID:51512-1779960600-1779975000@www.acecloser.com
SUMMARY:(HQ) ACE Investment 2: Advanced Real Estate Investment Essentials - 4 CE
DESCRIPTION:
URL:https://www.acecloser.com/upcoming_class/hq-ace-investment-2-advanced-real-estate-investment-essentials-4-ce/
LOCATION:MIAMI’s New Global Headquarters – Tuttle Conference Center – 1800 Oakwood Dr.\, Miami Springs\, FL\, United States
CATEGORIES:ACE Class
END:VEVENT
END:VCALENDAR