BEGIN:VCALENDAR
VERSION:2.0
PRODID:-//ACE - ECPv5.15.0.1//NONSGML v1.0//EN
CALSCALE:GREGORIAN
METHOD:PUBLISH
X-WR-CALNAME:ACE
X-ORIGINAL-URL:https://www.acecloser.com
X-WR-CALDESC:Events for ACE
REFRESH-INTERVAL;VALUE=DURATION:PT1H
X-Robots-Tag:noindex
X-PUBLISHED-TTL:PT1H
BEGIN:VTIMEZONE
TZID:America/New_York
BEGIN:DAYLIGHT
TZOFFSETFROM:-0500
TZOFFSETTO:-0400
TZNAME:EDT
DTSTART:20260308T070000
END:DAYLIGHT
BEGIN:STANDARD
TZOFFSETFROM:-0400
TZOFFSETTO:-0500
TZNAME:EST
DTSTART:20261101T060000
END:STANDARD
END:VTIMEZONE
BEGIN:VEVENT
DTSTART;TZID=America/New_York:20260916T090000
DTEND;TZID=America/New_York:20260916T120000
DTSTAMP:20260424T213931
CREATED:20250916T042127Z
LAST-MODIFIED:20260401T230557Z
UID:40813-1789549200-1789560000@www.acecloser.com
SUMMARY:ACE Closing more deals with Fewer Leads
DESCRIPTION:
URL:https://www.acecloser.com/upcoming_class/ace-closing-more-deals-with-fewer-leads/
LOCATION:1750 N.W. 80th Blvd; Gainesville\, Gainesville\, FL\, United States
CATEGORIES:ACE Class
END:VEVENT
BEGIN:VEVENT
DTSTART;TZID=America/New_York:20260916T130000
DTEND;TZID=America/New_York:20260916T170000
DTSTAMP:20260424T213931
CREATED:20250916T042127Z
LAST-MODIFIED:20260401T230557Z
UID:40815-1789563600-1789578000@www.acecloser.com
SUMMARY:ACE Advanced Lister
DESCRIPTION:
URL:https://www.acecloser.com/upcoming_class/ace-advanced-lister-2/
LOCATION:1750 N.W. 80th Blvd; Gainesville\, Gainesville\, FL\, United States
CATEGORIES:ACE Class
END:VEVENT
END:VCALENDAR