BEGIN:VCALENDAR
VERSION:2.0
PRODID:-//ACE - ECPv5.15.0.1//NONSGML v1.0//EN
CALSCALE:GREGORIAN
METHOD:PUBLISH
X-WR-CALNAME:ACE
X-ORIGINAL-URL:https://www.acecloser.com
X-WR-CALDESC:Events for ACE
REFRESH-INTERVAL;VALUE=DURATION:PT1H
X-Robots-Tag:noindex
X-PUBLISHED-TTL:PT1H
BEGIN:VTIMEZONE
TZID:America/New_York
BEGIN:DAYLIGHT
TZOFFSETFROM:-0500
TZOFFSETTO:-0400
TZNAME:EDT
DTSTART:20260308T070000
END:DAYLIGHT
BEGIN:STANDARD
TZOFFSETFROM:-0400
TZOFFSETTO:-0500
TZNAME:EST
DTSTART:20261101T060000
END:STANDARD
END:VTIMEZONE
BEGIN:VEVENT
DTSTART;TZID=America/New_York:20260302T080000
DTEND;TZID=America/New_York:20260302T120000
DTSTAMP:20260424T174011
CREATED:20251103T142107Z
LAST-MODIFIED:20260224T155054Z
UID:43035-1772438400-1772452800@www.acecloser.com
SUMMARY:ACE Financing 1 for Tampa
DESCRIPTION:
URL:https://www.acecloser.com/upcoming_class/ace-financing-1-for-tampa/
LOCATION:2918 W. Kennedy Blvd. Tampa\, Tampa\, FL\, United States
CATEGORIES:ACE Class
END:VEVENT
BEGIN:VEVENT
DTSTART;TZID=America/New_York:20260302T130000
DTEND;TZID=America/New_York:20260302T170000
DTSTAMP:20260424T174011
CREATED:20251103T142107Z
LAST-MODIFIED:20260224T155054Z
UID:43037-1772456400-1772470800@www.acecloser.com
SUMMARY:ACE Creative Financing for Tampa
DESCRIPTION:
URL:https://www.acecloser.com/upcoming_class/ace-financing-2-for-tampa/
LOCATION:2918 W. Kennedy Blvd. Tampa\, Tampa\, FL\, United States
CATEGORIES:ACE Class
END:VEVENT
END:VCALENDAR