BEGIN:VCALENDAR
VERSION:2.0
PRODID:-//ACE - ECPv5.15.0.1//NONSGML v1.0//EN
CALSCALE:GREGORIAN
METHOD:PUBLISH
X-WR-CALNAME:ACE
X-ORIGINAL-URL:https://www.acecloser.com
X-WR-CALDESC:Events for ACE
REFRESH-INTERVAL;VALUE=DURATION:PT1H
X-Robots-Tag:noindex
X-PUBLISHED-TTL:PT1H
BEGIN:VTIMEZONE
TZID:America/New_York
BEGIN:DAYLIGHT
TZOFFSETFROM:-0500
TZOFFSETTO:-0400
TZNAME:EDT
DTSTART:20260308T070000
END:DAYLIGHT
BEGIN:STANDARD
TZOFFSETFROM:-0400
TZOFFSETTO:-0500
TZNAME:EST
DTSTART:20261101T060000
END:STANDARD
END:VTIMEZONE
BEGIN:VEVENT
DTSTART;TZID=America/New_York:20260311T090000
DTEND;TZID=America/New_York:20260311T121500
DTSTAMP:20260424T173249
CREATED:20251024T150605Z
LAST-MODIFIED:20260311T153627Z
UID:42581-1773219600-1773231300@www.acecloser.com
SUMMARY:ACE intro to commercial for Ohio
DESCRIPTION:
URL:https://www.acecloser.com/upcoming_class/ace-intro-to-commercial-for-ohio-2/
LOCATION:zoom\, Zoom Meeting - Online
CATEGORIES:ACE Class
END:VEVENT
END:VCALENDAR