BEGIN:VCALENDAR
VERSION:2.0
PRODID:-//ACE - ECPv5.15.0.1//NONSGML v1.0//EN
CALSCALE:GREGORIAN
METHOD:PUBLISH
X-WR-CALNAME:ACE
X-ORIGINAL-URL:https://www.acecloser.com
X-WR-CALDESC:Events for ACE
REFRESH-INTERVAL;VALUE=DURATION:PT1H
X-Robots-Tag:noindex
X-PUBLISHED-TTL:PT1H
BEGIN:VTIMEZONE
TZID:America/Chicago
BEGIN:DAYLIGHT
TZOFFSETFROM:-0600
TZOFFSETTO:-0500
TZNAME:CDT
DTSTART:20260308T080000
END:DAYLIGHT
BEGIN:STANDARD
TZOFFSETFROM:-0500
TZOFFSETTO:-0600
TZNAME:CST
DTSTART:20261101T070000
END:STANDARD
END:VTIMEZONE
BEGIN:VEVENT
DTSTART;TZID=America/Chicago:20260317T100000
DTEND;TZID=America/Chicago:20260318T060000
DTSTAMP:20260424T173229
CREATED:20260220T165054Z
LAST-MODIFIED:20260227T190555Z
UID:49164-1773741600-1773813600@www.acecloser.com
SUMMARY:Reservation at TownePlace Suites by Marriott Orlando Altamonte Springs/Maitland\, Starts:03/17/26\, Ends:03/18/26
DESCRIPTION:
URL:https://www.acecloser.com/upcoming_class/reservation-at-towneplace-suites-by-marriott-orlando-altamonte-springs-maitland-starts03-17-26-ends03-18-26/
LOCATION:151 Douglas Avenue  Altamonte Springs\, Florida\, USA
CATEGORIES:ACE Class
END:VEVENT
END:VCALENDAR