BEGIN:VCALENDAR
VERSION:2.0
PRODID:-//ACE - ECPv5.15.0.1//NONSGML v1.0//EN
CALSCALE:GREGORIAN
METHOD:PUBLISH
X-WR-CALNAME:ACE
X-ORIGINAL-URL:https://www.acecloser.com
X-WR-CALDESC:Events for ACE
REFRESH-INTERVAL;VALUE=DURATION:PT1H
X-Robots-Tag:noindex
X-PUBLISHED-TTL:PT1H
BEGIN:VTIMEZONE
TZID:America/New_York
BEGIN:DAYLIGHT
TZOFFSETFROM:-0500
TZOFFSETTO:-0400
TZNAME:EDT
DTSTART:20260308T070000
END:DAYLIGHT
BEGIN:STANDARD
TZOFFSETFROM:-0400
TZOFFSETTO:-0500
TZNAME:EST
DTSTART:20261101T060000
END:STANDARD
TZID:America/Chicago
BEGIN:DAYLIGHT
TZOFFSETFROM:-0600
TZOFFSETTO:-0500
TZNAME:CDT
DTSTART:20260308T080000
END:DAYLIGHT
BEGIN:STANDARD
TZOFFSETFROM:-0500
TZOFFSETTO:-0600
TZNAME:CST
DTSTART:20261101T070000
END:STANDARD
END:VTIMEZONE
BEGIN:VEVENT
DTSTART;TZID=America/New_York:20260331T110000
DTEND;TZID=America/New_York:20260402T080000
DTSTAMP:20260424T160909
CREATED:20260327T085055Z
LAST-MODIFIED:20260402T113554Z
UID:51221-1774954800-1775116800@www.acecloser.com
SUMMARY:Reservation at TownePlace Suites by Marriott Sioux Falls South\, Starts:03/31/26\, Ends:04/02/26
DESCRIPTION:
URL:https://www.acecloser.com/upcoming_class/reservation-at-towneplace-suites-by-marriott-sioux-falls-south-starts03-31-26-ends04-02-26/
LOCATION:6400 South Connie Avenue  Sioux Falls\, South Dakota\, USA
CATEGORIES:ACE Class
END:VEVENT
BEGIN:VEVENT
DTSTART;TZID=America/New_York:20260331T110000
DTEND;TZID=America/New_York:20260402T080000
DTSTAMP:20260424T160909
CREATED:20260327T085055Z
LAST-MODIFIED:20260327T085055Z
UID:51224-1774954800-1775116800@www.acecloser.com
SUMMARY:Reservation at TownePlace Suites by Marriott Sioux Falls South\, Starts:03/31/26\, Ends:04/02/26
DESCRIPTION:
URL:https://www.acecloser.com/upcoming_class/reservation-at-towneplace-suites-by-marriott-sioux-falls-south-starts03-31-26-ends04-02-26-2/
LOCATION:6400 South Connie Avenue  Sioux Falls\, South Dakota\, USA
CATEGORIES:ACE Class
END:VEVENT
BEGIN:VEVENT
DTSTART;TZID=America/Chicago:20260402T083000
DTEND;TZID=America/Chicago:20260402T123000
DTSTAMP:20260424T160909
CREATED:20260204T170626Z
LAST-MODIFIED:20260402T172103Z
UID:46781-1775118600-1775133000@www.acecloser.com
SUMMARY:ACE Finding the Opportunities in a changing market Sioux Falls
DESCRIPTION:
URL:https://www.acecloser.com/upcoming_class/ace-finding-the-opportunities-in-a-changing-market-sioux-falls/
LOCATION:REALTOR® Association of the Sioux Empire Offices; 2415 W 57th St Sioux Falls SD 57108
CATEGORIES:ACE Class
END:VEVENT
END:VCALENDAR