BEGIN:VCALENDAR
VERSION:2.0
PRODID:-//ACE - ECPv5.15.0.1//NONSGML v1.0//EN
CALSCALE:GREGORIAN
METHOD:PUBLISH
X-WR-CALNAME:ACE
X-ORIGINAL-URL:https://www.acecloser.com
X-WR-CALDESC:Events for ACE
REFRESH-INTERVAL;VALUE=DURATION:PT1H
X-Robots-Tag:noindex
X-PUBLISHED-TTL:PT1H
BEGIN:VTIMEZONE
TZID:America/New_York
BEGIN:DAYLIGHT
TZOFFSETFROM:-0500
TZOFFSETTO:-0400
TZNAME:EDT
DTSTART:20260308T070000
END:DAYLIGHT
BEGIN:STANDARD
TZOFFSETFROM:-0400
TZOFFSETTO:-0500
TZNAME:EST
DTSTART:20261101T060000
END:STANDARD
END:VTIMEZONE
BEGIN:VEVENT
DTSTART;TZID=America/New_York:20260410T093000
DTEND;TZID=America/New_York:20260410T133000
DTSTAMP:20260424T160903
CREATED:20260309T145115Z
LAST-MODIFIED:20260410T172055Z
UID:50843-1775813400-1775827800@www.acecloser.com
SUMMARY:(WB) ACE Investment 9 Tax Advantages for Real Estate Investment (4 hrs.)
DESCRIPTION:
URL:https://www.acecloser.com/upcoming_class/wb-ace-investment-9-tax-advantages-for-real-estate-investment-4-hrs/
LOCATION:CC1 & CC2
CATEGORIES:ACE Class
END:VEVENT
END:VCALENDAR