BEGIN:VCALENDAR
VERSION:2.0
PRODID:-//ACE - ECPv5.15.0.1//NONSGML v1.0//EN
CALSCALE:GREGORIAN
METHOD:PUBLISH
X-WR-CALNAME:ACE
X-ORIGINAL-URL:https://www.acecloser.com
X-WR-CALDESC:Events for ACE
REFRESH-INTERVAL;VALUE=DURATION:PT1H
X-Robots-Tag:noindex
X-PUBLISHED-TTL:PT1H
BEGIN:VTIMEZONE
TZID:America/New_York
BEGIN:DAYLIGHT
TZOFFSETFROM:-0500
TZOFFSETTO:-0400
TZNAME:EDT
DTSTART:20260308T070000
END:DAYLIGHT
BEGIN:STANDARD
TZOFFSETFROM:-0400
TZOFFSETTO:-0500
TZNAME:EST
DTSTART:20261101T060000
END:STANDARD
END:VTIMEZONE
BEGIN:VEVENT
DTSTART;TZID=America/New_York:20260417T090000
DTEND;TZID=America/New_York:20260417T121500
DTSTAMP:20260424T160802
CREATED:20260204T170629Z
LAST-MODIFIED:20260417T125054Z
UID:46785-1776416400-1776428100@www.acecloser.com
SUMMARY:ACE Opportunities in a Changing Market For Ohio and Garry
DESCRIPTION:
URL:https://www.acecloser.com/upcoming_class/ace-opportunities-in-a-changing-market-for-ohio-and-garry/
LOCATION:zoom\, Zoom Meeting - Online
CATEGORIES:ACE Class
END:VEVENT
END:VCALENDAR