BEGIN:VCALENDAR
VERSION:2.0
PRODID:-//ACE - ECPv5.15.0.1//NONSGML v1.0//EN
CALSCALE:GREGORIAN
METHOD:PUBLISH
X-WR-CALNAME:ACE
X-ORIGINAL-URL:https://www.acecloser.com
X-WR-CALDESC:Events for ACE
REFRESH-INTERVAL;VALUE=DURATION:PT1H
X-Robots-Tag:noindex
X-PUBLISHED-TTL:PT1H
BEGIN:VTIMEZONE
TZID:America/New_York
BEGIN:DAYLIGHT
TZOFFSETFROM:-0500
TZOFFSETTO:-0400
TZNAME:EDT
DTSTART:20260308T070000
END:DAYLIGHT
BEGIN:STANDARD
TZOFFSETFROM:-0400
TZOFFSETTO:-0500
TZNAME:EST
DTSTART:20261101T060000
END:STANDARD
END:VTIMEZONE
BEGIN:VEVENT
DTSTART;TZID=America/New_York:20260616T080000
DTEND;TZID=America/New_York:20260616T120000
DTSTAMP:20260424T184432
CREATED:20251103T142108Z
LAST-MODIFIED:20260424T183557Z
UID:43050-1781596800-1781611200@www.acecloser.com
SUMMARY:ACE Distressed PropertiesTampa – 2918 W. Kennedy Blvd. Tampa\, FL 33609
DESCRIPTION:
URL:https://www.acecloser.com/upcoming_class/ace-distressed-propertiestampa-2918-w-kennedy-blvd-tampa-fl-33609/
LOCATION:Tampa – 2918 W. Kennedy Blvd. Tampa\, Tampa\, FL\, United States
CATEGORIES:ACE Class
END:VEVENT
BEGIN:VEVENT
DTSTART;TZID=America/New_York:20260616T130000
DTEND;TZID=America/New_York:20260616T170000
DTSTAMP:20260424T184432
CREATED:20251103T142109Z
LAST-MODIFIED:20260424T183557Z
UID:43051-1781614800-1781629200@www.acecloser.com
SUMMARY:ACE Managing Distressed Properties for Tampa\,
DESCRIPTION:
URL:https://www.acecloser.com/upcoming_class/ace-managing-distressed-properties-for-tampa/
LOCATION:Tampa – 2918 W. Kennedy Blvd. Tampa\, Tampa\, FL\, United States
CATEGORIES:ACE Class
END:VEVENT
END:VCALENDAR