BEGIN:VCALENDAR
VERSION:2.0
PRODID:-//ACE - ECPv5.15.0.1//NONSGML v1.0//EN
CALSCALE:GREGORIAN
METHOD:PUBLISH
X-WR-CALNAME:ACE
X-ORIGINAL-URL:https://www.acecloser.com
X-WR-CALDESC:Events for ACE
REFRESH-INTERVAL;VALUE=DURATION:PT1H
X-Robots-Tag:noindex
X-PUBLISHED-TTL:PT1H
BEGIN:VTIMEZONE
TZID:America/New_York
BEGIN:DAYLIGHT
TZOFFSETFROM:-0500
TZOFFSETTO:-0400
TZNAME:EDT
DTSTART:20260308T070000
END:DAYLIGHT
BEGIN:STANDARD
TZOFFSETFROM:-0400
TZOFFSETTO:-0500
TZNAME:EST
DTSTART:20261101T060000
END:STANDARD
END:VTIMEZONE
BEGIN:VEVENT
DTSTART;TZID=America/New_York:20260714T093000
DTEND;TZID=America/New_York:20260714T133000
DTSTAMP:20260424T201544
CREATED:20260413T150557Z
LAST-MODIFIED:20260424T200608Z
UID:52055-1784021400-1784035800@www.acecloser.com
SUMMARY:Hold for Tiffany ACE Dealing with Deal Killers\, Distressed Property and Intro to Commercial
DESCRIPTION:
URL:https://www.acecloser.com/upcoming_class/hold-for-tiffany-ace-dealing-with-deal-killers-distressed-property-and-intro-to-commercial-2/
LOCATION:6525 3rd Street\, 4101 Suit Way\, Cocoa\, FL\, United States
CATEGORIES:ACE Class
END:VEVENT
END:VCALENDAR