BEGIN:VCALENDAR
VERSION:2.0
PRODID:-//ACE - ECPv5.15.0.1//NONSGML v1.0//EN
CALSCALE:GREGORIAN
METHOD:PUBLISH
X-WR-CALNAME:ACE
X-ORIGINAL-URL:https://www.acecloser.com
X-WR-CALDESC:Events for ACE
REFRESH-INTERVAL;VALUE=DURATION:PT1H
X-Robots-Tag:noindex
X-PUBLISHED-TTL:PT1H
BEGIN:VTIMEZONE
TZID:America/New_York
BEGIN:DAYLIGHT
TZOFFSETFROM:-0500
TZOFFSETTO:-0400
TZNAME:EDT
DTSTART:20260308T070000
END:DAYLIGHT
BEGIN:STANDARD
TZOFFSETFROM:-0400
TZOFFSETTO:-0500
TZNAME:EST
DTSTART:20261101T060000
END:STANDARD
END:VTIMEZONE
BEGIN:VEVENT
DTSTART;TZID=America/New_York:20260716T100000
DTEND;TZID=America/New_York:20260716T120000
DTSTAMP:20260424T201528
CREATED:20260204T170641Z
LAST-MODIFIED:20260424T200609Z
UID:46786-1784196000-1784203200@www.acecloser.com
SUMMARY:ACE Business Building & Time Management for Naples
DESCRIPTION:
URL:https://www.acecloser.com/upcoming_class/ace-business-building-time-management-for-naples/
LOCATION:1455 Pine Ridge Road; Naples\, 2301 Florida Ave\, Naples\, FL\, United States
CATEGORIES:ACE Class
END:VEVENT
BEGIN:VEVENT
DTSTART;TZID=America/New_York:20260716T130000
DTEND;TZID=America/New_York:20260716T160000
DTSTAMP:20260424T201528
CREATED:20260204T170642Z
LAST-MODIFIED:20260424T200609Z
UID:46787-1784206800-1784217600@www.acecloser.com
SUMMARY:ACE Elite Customer Service for Naples
DESCRIPTION:
URL:https://www.acecloser.com/upcoming_class/ace-elite-customer-service-for-naples/
LOCATION:1455 Pine Ridge Road; Naples\, 2301 Florida Ave\, Naples\, FL\, United States
CATEGORIES:ACE Class
END:VEVENT
END:VCALENDAR