BEGIN:VCALENDAR
VERSION:2.0
PRODID:-//ACE - ECPv5.15.0.1//NONSGML v1.0//EN
CALSCALE:GREGORIAN
METHOD:PUBLISH
X-WR-CALNAME:ACE
X-ORIGINAL-URL:https://www.acecloser.com
X-WR-CALDESC:Events for ACE
REFRESH-INTERVAL;VALUE=DURATION:PT1H
X-Robots-Tag:noindex
X-PUBLISHED-TTL:PT1H
BEGIN:VTIMEZONE
TZID:America/New_York
BEGIN:DAYLIGHT
TZOFFSETFROM:-0500
TZOFFSETTO:-0400
TZNAME:EDT
DTSTART:20260308T070000
END:DAYLIGHT
BEGIN:STANDARD
TZOFFSETFROM:-0400
TZOFFSETTO:-0500
TZNAME:EST
DTSTART:20261101T060000
END:STANDARD
TZID:America/Chicago
BEGIN:DAYLIGHT
TZOFFSETFROM:-0600
TZOFFSETTO:-0500
TZNAME:CDT
DTSTART:20260308T080000
END:DAYLIGHT
BEGIN:STANDARD
TZOFFSETFROM:-0500
TZOFFSETTO:-0600
TZNAME:CST
DTSTART:20261101T070000
END:STANDARD
END:VTIMEZONE
BEGIN:VEVENT
DTSTART;TZID=America/New_York:20260213T100000
DTEND;TZID=America/New_York:20260213T140000
DTSTAMP:20260424T231212
CREATED:20260114T160615Z
LAST-MODIFIED:20260213T185128Z
UID:46305-1770976800-1770991200@www.acecloser.com
SUMMARY:(HQ) The ACE Negotiator 1: The No Nonsense Negotiating Course - 4 CE
DESCRIPTION:
URL:https://www.acecloser.com/upcoming_class/hq-the-ace-negotiator-1-the-no-nonsense-negotiating-course-4-ce-3/
LOCATION:MIAMI’s New Global Headquarters – Tuttle Conference Center – 1800 Oakwood Dr.\, Miami Springs\, FL\, United States
CATEGORIES:ACE Class
END:VEVENT
BEGIN:VEVENT
DTSTART;TZID=America/New_York:20260212T100000
DTEND;TZID=America/New_York:20260212T140000
DTSTAMP:20260424T231212
CREATED:20260114T160615Z
LAST-MODIFIED:20260212T183552Z
UID:46304-1770890400-1770904800@www.acecloser.com
SUMMARY:(WB) The ACE Negotiator 1: The No Nonsense Negotiating Course - 4 CE
DESCRIPTION:
URL:https://www.acecloser.com/upcoming_class/wb-the-ace-negotiator-1-the-no-nonsense-negotiating-course-4-ce-3/
LOCATION:CC2 – West Broward office – 13680 NW 14 St. Sunrise\, Fort Lauderdale\, FL\, United States
CATEGORIES:ACE Class
END:VEVENT
BEGIN:VEVENT
DTSTART;TZID=America/New_York:20260211T113000
DTEND;TZID=America/New_York:20260211T153000
DTSTAMP:20260424T231212
CREATED:20251204T223603Z
LAST-MODIFIED:20260211T200552Z
UID:44816-1770809400-1770823800@www.acecloser.com
SUMMARY:ACE Commercial Investment Analysis For Liz
DESCRIPTION:
URL:https://www.acecloser.com/upcoming_class/ace-commercial-leasing-contracting-for-liz-2/
LOCATION:151 W Lyman Ave\, Winter Park\, FL\, United States
CATEGORIES:ACE Class
END:VEVENT
BEGIN:VEVENT
DTSTART;TZID=America/New_York:20260210T113000
DTEND;TZID=America/New_York:20260210T153000
DTSTAMP:20260424T231212
CREATED:20251204T223603Z
LAST-MODIFIED:20260119T145104Z
UID:44815-1770723000-1770737400@www.acecloser.com
SUMMARY:ACE Commercial Leasing & Contracting For Liz
DESCRIPTION:
URL:https://www.acecloser.com/upcoming_class/ace-commercial-leasing-contracting-for-liz/
LOCATION:New Smyrna Beach Board-REALTORS (725 Canal St\, New Smyrna Beach\, FL\, United States
CATEGORIES:ACE Class
END:VEVENT
BEGIN:VEVENT
DTSTART;TZID=America/New_York:20260210T100000
DTEND;TZID=America/New_York:20260211T060000
DTSTAMP:20260424T231212
CREATED:20260126T153603Z
LAST-MODIFIED:20260211T105054Z
UID:46471-1770717600-1770789600@www.acecloser.com
SUMMARY:Reservation at TownePlace Suites by Marriott Orlando Altamonte Springs/Maitland\, Starts:02/10/26\, Ends:02/11/26
DESCRIPTION:
URL:https://www.acecloser.com/upcoming_class/reservation-at-towneplace-suites-by-marriott-orlando-altamonte-springs-maitland-starts02-10-26-ends02-11-26/
LOCATION:151 Douglas Avenue  Altamonte Springs\, Florida\, USA
CATEGORIES:ACE Class
END:VEVENT
BEGIN:VEVENT
DTSTART;TZID=America/New_York:20260204T130000
DTEND;TZID=America/New_York:20260204T170000
DTSTAMP:20260424T231212
CREATED:20251103T142105Z
LAST-MODIFIED:20260204T212054Z
UID:43032-1770210000-1770224400@www.acecloser.com
SUMMARY:ACE Dealing with the Deal Killers for Tampa
DESCRIPTION:
URL:https://www.acecloser.com/upcoming_class/ace-dealing-with-the-deal-killers-for-tampa/
LOCATION:zoom\, Zoom Meeting - Online
CATEGORIES:ACE Class
END:VEVENT
BEGIN:VEVENT
DTSTART;TZID=America/New_York:20260204T080000
DTEND;TZID=America/New_York:20260204T120000
DTSTAMP:20260424T231212
CREATED:20251103T142102Z
LAST-MODIFIED:20260204T162054Z
UID:43031-1770192000-1770206400@www.acecloser.com
SUMMARY:ACE Buyers Agent Bootcamp for Tampa
DESCRIPTION:
URL:https://www.acecloser.com/upcoming_class/ace-buyers-agent-bootcamp-for-tampa/
LOCATION:zoom\, Zoom Meeting - Online
CATEGORIES:ACE Class
END:VEVENT
BEGIN:VEVENT
DTSTART;TZID=America/New_York:20260128T130000
DTEND;TZID=America/New_York:20260128T160000
DTSTAMP:20260424T231212
CREATED:20251223T192055Z
LAST-MODIFIED:20260128T202057Z
UID:45819-1769605200-1769616000@www.acecloser.com
SUMMARY:ACE Elite Customer Service for Tracey In Mobile
DESCRIPTION:
URL:https://www.acecloser.com/upcoming_class/ace-elite-customer-service-for-tracey-in-mobile/
LOCATION:2827 Airport BLVD Mobile\, Mobile\, AL\, United States
CATEGORIES:ACE Class
END:VEVENT
BEGIN:VEVENT
DTSTART;TZID=America/New_York:20260128T090000
DTEND;TZID=America/New_York:20260128T120000
DTSTAMP:20260424T231212
CREATED:20251007T182136Z
LAST-MODIFIED:20260128T163600Z
UID:41799-1769590800-1769601600@www.acecloser.com
SUMMARY:ACE Ethics for Tracey In Mobile
DESCRIPTION:
URL:https://www.acecloser.com/upcoming_class/hold-for-tracey-in-mobile/
LOCATION:2827 Airport BLVD Mobile\, Mobile\, AL\, United States
CATEGORIES:ACE Class
END:VEVENT
BEGIN:VEVENT
DTSTART;TZID=America/Chicago:20260127T133000
DTEND;TZID=America/Chicago:20260127T163000
DTSTAMP:20260424T231212
CREATED:20251010T153624Z
LAST-MODIFIED:20260127T222058Z
UID:41937-1769520600-1769531400@www.acecloser.com
SUMMARY:ACE Opportunities
DESCRIPTION:
URL:https://www.acecloser.com/upcoming_class/ace-opportunities/
LOCATION:Pensacola Association of REALTORS®\, Inc. (107 W Main St\, Pensacola\, FL  32502)
CATEGORIES:ACE Class
END:VEVENT
BEGIN:VEVENT
DTSTART;TZID=America/Chicago:20260127T083000
DTEND;TZID=America/Chicago:20260127T123000
DTSTAMP:20260424T231212
CREATED:20251010T153624Z
LAST-MODIFIED:20260127T175107Z
UID:41936-1769502600-1769517000@www.acecloser.com
SUMMARY:ACE Distressed Proeprties
DESCRIPTION:
URL:https://www.acecloser.com/upcoming_class/ace-distressed-proeprties/
LOCATION:Pensacola Association of REALTORS®\, Inc. (107 W Main St\, Pensacola\, FL  32502)
CATEGORIES:ACE Class
END:VEVENT
BEGIN:VEVENT
DTSTART;TZID=America/Chicago:20260126T123000
DTEND;TZID=America/Chicago:20260126T163000
DTSTAMP:20260424T231212
CREATED:20251203T172055Z
LAST-MODIFIED:20251203T172055Z
UID:44685-1769430600-1769445000@www.acecloser.com
SUMMARY:ACE Intro to Commercial for Kim IN Central Pan Handle
DESCRIPTION:
URL:https://www.acecloser.com/upcoming_class/ace-intro-to-commercial-for-kim-in-central-pan-handle-2/
LOCATION:Central Panhandle Association of REALTORS (4952 US-98 W\, Panama City\, FL  32401)
CATEGORIES:ACE Class
END:VEVENT
BEGIN:VEVENT
DTSTART;TZID=America/Chicago:20260126T123000
DTEND;TZID=America/Chicago:20260126T163000
DTSTAMP:20260424T231212
CREATED:20251203T172054Z
LAST-MODIFIED:20260126T222055Z
UID:44682-1769430600-1769445000@www.acecloser.com
SUMMARY:ACE Intro to Commercial for Kim IN Central Pan Handle
DESCRIPTION:
URL:https://www.acecloser.com/upcoming_class/ace-intro-to-commercial-for-kim-in-central-pan-handle/
LOCATION:Central Panhandle Association of REALTORS (4952 US-98 W\, Panama City\, FL  32401)
CATEGORIES:ACE Class
END:VEVENT
BEGIN:VEVENT
DTSTART;TZID=America/Chicago:20260126T100000
DTEND;TZID=America/Chicago:20260126T120000
DTSTAMP:20260424T231212
CREATED:20251203T172055Z
LAST-MODIFIED:20260126T175105Z
UID:44684-1769421600-1769428800@www.acecloser.com
SUMMARY:ACE Closing More Deals with Fewer Leads for Kim IN Central Pan Handle
DESCRIPTION:
URL:https://www.acecloser.com/upcoming_class/ace-closing-more-deals-with-fewer-leads-for-kim-in-central-pan-handle/
LOCATION:Central Panhandle Association of REALTORS (4952 US-98 W\, Panama City\, FL  32401)
CATEGORIES:ACE Class
END:VEVENT
END:VCALENDAR